BEGIN:VCALENDAR
VERSION:2.0
PRODID:-//eventon.com NONSGML v1.0//EN
CALSCALE:GREGORIAN
METHOD:PUBLISH
BEGIN:VEVENT
UID:69e864af449f1
DTSTAMP:20260422T060327Z
DTSTART:20240505T213000Z
DTEND:20240506T000000Z
LOCATION:213 Commerce St\,  Montgomery\,  AL\,  United States\,  Alabama 36104 213 Commerce St\,  Montgomery\,  AL 36104-2674\,  United States
SUMMARY:Sunday Evening Blues Cruise
DESCRIPTION:Event by Harriott II Riverboat The perfect solution for your Su
 nday evening blues. The Harriott II Blues Cruise features local favorites l
 ike Eric Perkins and the John Bull Band. They&#8217;ll get your heart pumpi
 ng and your toes tapping. Along with the entertainment\,  there is a cash b
 ar and concessions. Tickets:Adults[..]\nhttps://wiregrassconnections.com/ev
 ents/sunday-evening-blues-cruise/
URL:https://wiregrassconnections.com/events/sunday-evening-blues-cruise/
END:VEVENT
END:VCALENDAR