BEGIN:VCALENDAR
VERSION:2.0
PRODID:-//eventon.com NONSGML v1.0//EN
CALSCALE:GREGORIAN
METHOD:PUBLISH
BEGIN:VEVENT
UID:69e496d05f909
DTSTAMP:20260419T084816Z
DTSTART:20240419T210000Z
DTEND:20240419T230000Z
LOCATION:602 Linden St\,  Dothan\,  AL\,  United States\,  Alabama 36303 602 Linden St\,  Dothan\,  AL 36303-4243\,  United States
SUMMARY:Orran Scruggs Cultivating The Community Project
DESCRIPTION:Event by Aunt Katie&#8217;s Community Garden Orran Scruggs will
  show his limited &#8220;Cultivating the Community&#8221; photography serie
 s at Aunt Katie&#8217;s Community Garden. This series of photos captures Or
 ran&#8217;s view of some of the people who are deeply connected to Urban Ag
 riculture &amp; Farming/Self Sufficiency in our Community. This limited bla
 ck[..]\nhttps://wiregrassconnections.com/events/orran-scruggs-cultivating-t
 he-community-project/
URL:https://wiregrassconnections.com/events/orran-scruggs-cultivating-the-community-project/
END:VEVENT
END:VCALENDAR