BEGIN:VCALENDAR
VERSION:2.0
PRODID:-//eventon.com NONSGML v1.0//EN
CALSCALE:GREGORIAN
METHOD:PUBLISH
BEGIN:VEVENT
UID:69e7329a12588
DTSTAMP:20260421T081730Z
DTSTART:20240406T120000Z
DTEND:20240406T170000Z
LOCATION:Pine Level Senior Center 63 County Road 355\,  Elba\,  AL 36323\,  United States
SUMMARY:Yard Sale
DESCRIPTION:Event by Pine Level We are having our annual fundraising yard s
 ale. The benefits of our yard sale will be used to furnish our sitting area
  with outdoor furniture and accessories. If anyone would like to donate ite
 ms for the yard sale please contact us. Please let your friends and[..]\nht
 tps://wiregrassconnections.com/events/yard-sale/
URL:https://wiregrassconnections.com/events/yard-sale/
END:VEVENT
END:VCALENDAR