BEGIN:VCALENDAR
VERSION:2.0
PRODID:-//eventon.com NONSGML v1.0//EN
CALSCALE:GREGORIAN
METHOD:PUBLISH
BEGIN:VEVENT
UID:69e747cc6f4de
DTSTAMP:20260421T094756Z
DTSTART:20240518T153000Z
DTEND:20240518T183000Z
LOCATION:126 Museum Ave\,  Dothan\,  AL\,  United States\,  Alabama 36303 126 Museum Ave\,  Dothan\,  AL 36303-4802\,  United States
SUMMARY:Studio Class : Still Life Drawing
DESCRIPTION:Event by Wiregrass Museum of Art Instructor: Orran Scruggs 10:3
 0 am-1:30 pm $15 for members Teens/adults Still life drawing can be intimid
 ating\,  but no worries\,  Orran Scruggs is here to help!! Join Orran’s c
 lass to learn about different drawing\,  shading\,  and coloring techniques
  to add to your still life sketches.[..]\nhttps://wiregrassconnections.com/
 events/studio-class-still-life-drawing/
URL:https://wiregrassconnections.com/events/studio-class-still-life-drawing/
END:VEVENT
END:VCALENDAR